BEGIN:VCALENDAR
VERSION:2.0
PRODID:-//Land van Een - ECPv6.15.20//NONSGML v1.0//EN
CALSCALE:GREGORIAN
METHOD:PUBLISH
X-WR-CALNAME:Land van Een
X-ORIGINAL-URL:https://landvaneen.nl
X-WR-CALDESC:Evenementen voor Land van Een
REFRESH-INTERVAL;VALUE=DURATION:PT1H
X-Robots-Tag:noindex
X-PUBLISHED-TTL:PT1H
BEGIN:VTIMEZONE
TZID:Europe/Helsinki
BEGIN:DAYLIGHT
TZOFFSETFROM:+0200
TZOFFSETTO:+0300
TZNAME:EEST
DTSTART:20250330T010000
END:DAYLIGHT
BEGIN:STANDARD
TZOFFSETFROM:+0300
TZOFFSETTO:+0200
TZNAME:EET
DTSTART:20251026T010000
END:STANDARD
BEGIN:DAYLIGHT
TZOFFSETFROM:+0200
TZOFFSETTO:+0300
TZNAME:EEST
DTSTART:20260329T010000
END:DAYLIGHT
BEGIN:STANDARD
TZOFFSETFROM:+0300
TZOFFSETTO:+0200
TZNAME:EET
DTSTART:20261025T010000
END:STANDARD
BEGIN:DAYLIGHT
TZOFFSETFROM:+0200
TZOFFSETTO:+0300
TZNAME:EEST
DTSTART:20270328T010000
END:DAYLIGHT
BEGIN:STANDARD
TZOFFSETFROM:+0300
TZOFFSETTO:+0200
TZNAME:EET
DTSTART:20271031T010000
END:STANDARD
END:VTIMEZONE
BEGIN:VEVENT
DTSTART;TZID=Europe/Helsinki:20260510T100000
DTEND;TZID=Europe/Helsinki:20260510T120000
DTSTAMP:20260421T080420
CREATED:20241228T155954Z
LAST-MODIFIED:20260327T194418Z
UID:1764-1778407200-1778414400@landvaneen.nl
SUMMARY:Cursus in wonderen
DESCRIPTION:Deze leertafel is vanuit de context van de ‘Cursus in Wonderen’.Een “Cursus in Wonderen” is een spiritueel boek dat in de jaren ’70 is geschreven.Het boek heeft als doel mensen te helpen bij het bereiken van innerlijke vrede door middel van spirituele transformatie. De cursus bevat lessen en oefeningen die gericht zijn op het loslaten van angst\, vergeving\, en het omarmen van liefde en eenheid met de schepping. Het wordt beschouwd als een spirituele leerweg die probeert de lezer te leiden naar een dieper begrip van zichzelf\, anderen en de wereld om hen heen. \n\n\n\nHet bestuderen van de “Cursus in Wonderen” tijdens de leertafel omvat het doornemen van de lessen en concepten die in het boek worden gepresenteerd. Het gaat verder dan alleen lezen; het betekent reflecteren op de boodschappen\, ze toepassen in het dagelijks leven en ze integreren in je spirituele praktijk.Door actief te werken met de lessen en oefeningen in de Cursus\, streven mensen ernaar om innerlijke rust\, vergeving\, en een dieper begrip van de universele liefde te bereiken.Het bestuderen van de Cursus in Wonderen vraagt om een open geest\, bereidheid tot zelfreflectie en de wil om spirituele groei en transformatie te omarmen. \n\n\n\nAls je hart een sprongetje maakt als je dit leest….. omdat het resoneert\, of vanuit nieuwsgierigheid……dan nodigen wij je uit om contact met Petra op te nemen. Dat kan via de mail (petra6512@gmail.com) of bellen/appen (06-45074871) \n\n\n\nWe kijken ernaar uit je te zien! \n\n\n\nHartelijke groeten Petra en Koen Litjens
URL:https://landvaneen.nl/activiteiten/cursus-in-wonderen-5/
ATTACH;FMTTYPE=image/jpeg:https://landvaneen.nl/wp-content/uploads/2024/12/image.jpeg
ORGANIZER;CN="Petra Litjens":MAILTO:petra6512@gmail.com
END:VEVENT
BEGIN:VEVENT
DTSTART;TZID=Europe/Helsinki:20260522T200000
DTEND;TZID=Europe/Helsinki:20260522T223000
DTSTAMP:20260421T080420
CREATED:20260417T162408Z
LAST-MODIFIED:20260417T162434Z
UID:2397-1779480000-1779489000@landvaneen.nl
SUMMARY:DANSEN OP HET LAND VAN EEN
DESCRIPTION:We gaan dansen op het Land van Een. \n\n\n\nIn het mooie strohuis\, op het Land van Een\, organiseren wij een dans avond. \n\n\n\nDans en beweeg in alle vrijheid zoals jij dat graag doet. Jij maakt je eigen dans op jouw unieke manier. \n\n\n\nErvaar de twee uur durende muzikale flow die je uitnodigt om helemaal de dans in te duiken; dansen vanuit zelfexpressie\, creativiteit en echt aanwezig te zijn in je lichaam. Zo wordt het dansen op zich een reis\, een ervaring van opladen en verbinden en het vinden van de extase in jezelf. Even niet in je hoofd\, vrij van gedachten. Voor meer informatie en aanmelding: https://janlandvaneen.nl/evenement/dance/
URL:https://landvaneen.nl/activiteiten/dansen-op-het-land-van-een/
ATTACH;FMTTYPE=image/jpeg:https://landvaneen.nl/wp-content/uploads/2026/04/IMG_0765.jpeg
END:VEVENT
BEGIN:VEVENT
DTSTART;TZID=Europe/Helsinki:20260529T200000
DTEND;TZID=Europe/Helsinki:20260529T220000
DTSTAMP:20260421T080420
CREATED:20260417T161515Z
LAST-MODIFIED:20260417T161517Z
UID:2394-1780084800-1780092000@landvaneen.nl
SUMMARY:DREAMTIME
DESCRIPTION:DREAMTIME In de huidige\, stressvolle wereld is het vaak lastig om tijd te maken voor rust en ontspanning. Indien je niet voldoende tijd hebt voor ontspanning kan dit voor stressgerelateerde klachten zorgen. Ervaar dan eens de kracht en de werking van een dreamtimesessie voor wat extra ontspanning\, stress loslaten of gewoon even heerlijk tot rust komen op een diep niveau in je bewustzijn. \n\n\n\n​We starten met een korte meditatie waardoor je op je gemak kan landen om vervolgens met de dreamtimesessie te beginnen. Liggend op je matje onder je deken laat je de klanken over je heen komen. Naast (kristallen)klankschalen worden er ook andere instrumenten gebruikt waaronder een crystalharp\, drum\, gong\, handpan\, windgong\, aquaphone\, windsinger\, lyre harp en nog veel meer. Er zullen ook momenten van stilte zijn zodat het lichaam alle trilling kan verwerken. Juist in deze stilte ontstaat vaak de diepste ontspanning. \n\n\n\nNa afloop kun je rustig even bijkomen onder het genot van een kopje koffie of thee. \n\n\n\nOm zelf mee te nemen: \n\n\n\n(yoga)matjewarme deken (tijdens of na de sessie kun je het koud krijgen)kussen voor onder je hoofd en/of knieëneventueel dikke sokkenflesje water+ Draag makkelijk zittende kleding+ Geen strakke riemen en/of sierraden+ Geen overmatig gebruik van parfum of andere luchtjes gebruiken+ Tijdens de sessie mobiele telefoon UIT \n\n\n\nLaat je een keer meenemen door de wonderlijke wereld van de klanken en kom heerlijk tot rust. Wie wil dat nu niet? \n\n\n\nMet veel liefde\, Jan \n\n\n\nVoor info en aanmeldingen: https://janlandvaneen.nl/evenement/dreamtime/ \n\n\n\n€20 graag contant
URL:https://landvaneen.nl/activiteiten/dreamtime-2/
ATTACH;FMTTYPE=image/jpeg:https://landvaneen.nl/wp-content/uploads/2026/04/Afbeelding1.jpeg
END:VEVENT
BEGIN:VEVENT
DTSTART;TZID=Europe/Helsinki:20260614T100000
DTEND;TZID=Europe/Helsinki:20260614T120000
DTSTAMP:20260421T080420
CREATED:20241228T153749Z
LAST-MODIFIED:20260327T194448Z
UID:1758-1781431200-1781438400@landvaneen.nl
SUMMARY:Cursus in wonderen
DESCRIPTION:Deze leertafel is vanuit de context van de ‘Cursus in Wonderen’.Een “Cursus in Wonderen” is een spiritueel boek dat in de jaren ’70 is geschreven.Het boek heeft als doel mensen te helpen bij het bereiken van innerlijke vrede door middel van spirituele transformatie. De cursus bevat lessen en oefeningen die gericht zijn op het loslaten van angst\, vergeving\, en het omarmen van liefde en eenheid met de schepping. Het wordt beschouwd als een spirituele leerweg die probeert de lezer te leiden naar een dieper begrip van zichzelf\, anderen en de wereld om hen heen. \n\n\n\nHet bestuderen van de “Cursus in Wonderen” tijdens de leertafel omvat het doornemen van de lessen en concepten die in het boek worden gepresenteerd. Het gaat verder dan alleen lezen; het betekent reflecteren op de boodschappen\, ze toepassen in het dagelijks leven en ze integreren in je spirituele praktijk.Door actief te werken met de lessen en oefeningen in de Cursus\, streven mensen ernaar om innerlijke rust\, vergeving\, en een dieper begrip van de universele liefde te bereiken.Het bestuderen van de Cursus in Wonderen vraagt om een open geest\, bereidheid tot zelfreflectie en de wil om spirituele groei en transformatie te omarmen. \n\n\n\nAls je hart een sprongetje maakt als je dit leest….. omdat het resoneert\, of vanuit nieuwsgierigheid……dan nodigen wij je uit om contact met Petra op te nemen.                                                                                                    Dat kan via de mail (petra6512@gmail.com) of bellen/appen (06-45074871) \n\n\n\nWe kijken ernaar uit je te zien! \n\n\n\nHartelijke groeten Petra en Koen Litjens
URL:https://landvaneen.nl/activiteiten/cursus-in-wonderen-4/
ATTACH;FMTTYPE=image/jpeg:https://landvaneen.nl/wp-content/uploads/2024/12/image.jpeg
ORGANIZER;CN="Petra Litjens":MAILTO:petra6512@gmail.com
END:VEVENT
END:VCALENDAR