BEGIN:VCALENDAR
VERSION:2.0
PRODID:-//Land van Een - ECPv6.15.20//NONSGML v1.0//EN
CALSCALE:GREGORIAN
METHOD:PUBLISH
X-WR-CALNAME:Land van Een
X-ORIGINAL-URL:https://landvaneen.nl
X-WR-CALDESC:Evenementen voor Land van Een
REFRESH-INTERVAL;VALUE=DURATION:PT1H
X-Robots-Tag:noindex
X-PUBLISHED-TTL:PT1H
BEGIN:VTIMEZONE
TZID:Europe/Helsinki
BEGIN:DAYLIGHT
TZOFFSETFROM:+0200
TZOFFSETTO:+0300
TZNAME:EEST
DTSTART:20240331T010000
END:DAYLIGHT
BEGIN:STANDARD
TZOFFSETFROM:+0300
TZOFFSETTO:+0200
TZNAME:EET
DTSTART:20241027T010000
END:STANDARD
BEGIN:DAYLIGHT
TZOFFSETFROM:+0200
TZOFFSETTO:+0300
TZNAME:EEST
DTSTART:20250330T010000
END:DAYLIGHT
BEGIN:STANDARD
TZOFFSETFROM:+0300
TZOFFSETTO:+0200
TZNAME:EET
DTSTART:20251026T010000
END:STANDARD
BEGIN:DAYLIGHT
TZOFFSETFROM:+0200
TZOFFSETTO:+0300
TZNAME:EEST
DTSTART:20260329T010000
END:DAYLIGHT
BEGIN:STANDARD
TZOFFSETFROM:+0300
TZOFFSETTO:+0200
TZNAME:EET
DTSTART:20261025T010000
END:STANDARD
END:VTIMEZONE
BEGIN:VEVENT
DTSTART;TZID=Europe/Helsinki:20250602T193000
DTEND;TZID=Europe/Helsinki:20250602T204500
DTSTAMP:20260421T024634
CREATED:20250425T081303Z
LAST-MODIFIED:20250429T195625Z
UID:2013-1748892600-1748897100@landvaneen.nl
SUMMARY:Pilates les
DESCRIPTION:met Helen Zwart. \n\n\n\nBen je er bij? \n\n\n\nWat is Pilates en waarom zou je mee willen doen? \n\n\n\nJe zou Pilates kunnen omschrijven als een “inspannende ontspanningsles”. \n\n\n\nEen training waarbij houding\, stabiliteit\, coördinatie\, ademhaling en focus op lichaam en geest het uitgangspunt is. \n\n\n\nJe versterkt en rekt spiergroepen om een sterk maar ook soepel lichaam te krijgen. \n\n\n\nEen sterk en stabiel lichaamscentrum(core) vermindert de kans op blessures. \n\n\n\nDe oefeningen worden rustig en bewust uitgevoerd en opgebouwd. \n\n\n\n“Na 10 lessen voel je verschil\, na 20 lessen zie je het verschil\, na 30 lessen ben je een ander mens¨ Joseph Pilates(1880-1967) \n\n\n\nBen je bekend met Pilates en wat het met je doet? \n\n\n\nOf ben je nieuw(sgierig) en wil je dit wel eens ervaren? \n\n\n\nWe gaan deze lessen aanbieden op maandagavond. \n\n\n\nDeze serie van (nog) 2 lessen is 30 euro\, dus 15 euro per les van ruim 1 uur. \n\n\n\nData: tm 16 juni. NIET met Pinksteren. \n\n\n\nAanmelden via: info@landvaneen.nl \n\n\n\nJe bent van e welkom om het te ervaren bij Land van Een Rysloane 5 te Surhuizum. \n\n\n\nBALANS IN JE LIJF\, BALANS IN JE LEVEN. \n\n\n\nEvenement Navigatie
URL:https://landvaneen.nl/activiteiten/pilates-les-5/
ATTACH;FMTTYPE=image/jpeg:https://landvaneen.nl/wp-content/uploads/2025/04/lucht-1.jpeg
END:VEVENT
BEGIN:VEVENT
DTSTART;TZID=Europe/Helsinki:20250527T133000
DTEND;TZID=Europe/Helsinki:20250527T160000
DTSTAMP:20260421T024634
CREATED:20250408T174731Z
LAST-MODIFIED:20250408T174734Z
UID:1995-1748352600-1748361600@landvaneen.nl
SUMMARY:Workshop altaar(tje) maken.
DESCRIPTION:Door Yvonne de Witte \n\n\n\nEen altaartje maken is voor mij in eerste instantie altijd een speelse bezigheid. Luciferdoosjes\, verf\, oude Happinezzen\, fijne verf\, kralen\, glitters\, alles staat klaar. Ik creëer een mini altaartje met alles erop en eraan. Naderhand zie ik meestal dat ik het niet zomaar heb gemaakt! Eén altaartje bleek een “verhuisaltaartje” te zijn geworden en heeft me enorm geholpen tijdens een moeilijke verhuizing. Ook was er een altaartje bij dat me hielp beter naar mijn innerlijke stem te luisteren.  \n\n\n\nWaar je altaartje ook voor zal zijn\, je hoeft het niet van tevoren te bedenken. Het mag ook gewoon een fijn moment voor jezelf zijn waarin je lekker uit je hoofd komt en met andere mensen samen creatief kunt zijn. Tijdens het werken aan je altaar kun je naar de rustgevende klanken van handpan en indiaanfluit luisteren…….. \n\n\n\nTot dan! \n\n\n\nYvonne de Witte. \n\n\n\nLand van Een\, Rysloane 5 Surhuizum \n\n\n\nAanmelden via: info@landvaneen.nl
URL:https://landvaneen.nl/activiteiten/workshop-altaartje-maken/
ATTACH;FMTTYPE=image/jpeg:https://landvaneen.nl/wp-content/uploads/2025/04/altaartje-crea.jpeg
END:VEVENT
BEGIN:VEVENT
DTSTART;TZID=Europe/Helsinki:20250526T193000
DTEND;TZID=Europe/Helsinki:20250526T204500
DTSTAMP:20260421T024634
CREATED:20250425T081132Z
LAST-MODIFIED:20250429T195441Z
UID:2011-1748287800-1748292300@landvaneen.nl
SUMMARY:Pilates les
DESCRIPTION:met Helen Zwart. \n\n\n\nBen je er bij? \n\n\n\nWat is Pilates en waarom zou je mee willen doen? \n\n\n\nJe zou Pilates kunnen omschrijven als een “inspannende ontspanningsles”. \n\n\n\nEen training waarbij houding\, stabiliteit\, coördinatie\, ademhaling en focus op lichaam en geest het uitgangspunt is. \n\n\n\nJe versterkt en rekt spiergroepen om een sterk maar ook soepel lichaam te krijgen. \n\n\n\nEen sterk en stabiel lichaamscentrum(core) vermindert de kans op blessures. \n\n\n\nDe oefeningen worden rustig en bewust uitgevoerd en opgebouwd. \n\n\n\n“Na 10 lessen voel je verschil\, na 20 lessen zie je het verschil\, na 30 lessen ben je een ander mens¨ Joseph Pilates(1880-1967) \n\n\n\nBen je bekend met Pilates en wat het met je doet? \n\n\n\nOf ben je nieuw(sgierig) en wil je dit wel eens ervaren? \n\n\n\nWe gaan deze lessen aanbieden op maandagavond. \n\n\n\nKorte serie van 4 lessen is 45 euro\, dus 15 euro per les van ruim 1 uur. \n\n\n\nData: tm 16 juni. NIET met Pinksteren. \n\n\n\nAanmelden via: info@landvaneen.nl \n\n\n\nJe bent van e welkom om het te ervaren bij Land van Een Rysloane 5 te Surhuizum. \n\n\n\nBALANS IN JE LIJF\, BALANS IN JE LEVEN. \n\n\n\nEvenement Navigatie
URL:https://landvaneen.nl/activiteiten/pilates-les-4/
ATTACH;FMTTYPE=image/jpeg:https://landvaneen.nl/wp-content/uploads/2025/04/lucht-1.jpeg
END:VEVENT
BEGIN:VEVENT
DTSTART;TZID=Europe/Helsinki:20250522T193000
DTEND;TZID=Europe/Helsinki:20250522T210000
DTSTAMP:20260421T024634
CREATED:20250407T210817Z
LAST-MODIFIED:20250407T210821Z
UID:1990-1747942200-1747947600@landvaneen.nl
SUMMARY:Klankbad met helende frequentie muziek
DESCRIPTION:Met Jelske Talstra \n\n\n\nDompel jezelf liggend onder in het mooie klankbad met Solfeggio en engelen frequentie muziek die bekend staan om hun helende en positieve vibraties. \n\n\n\nVooraf vertelt Jelske iets over de Solfeggio muziekfrequenties en we doen een mooie meditatie om je te verbinden met jezelf en meer tot ontspanning te komen. \n\n\n\nVooraf gaand aan het klankbad kun je een intentie opschrijven voor wat je graag wilt helen\, ontvangen of wilt ervaren. \n\n\n\nDaarop volgend kun je je onder laten dompelen in een klankbad van 3 mooie muziekstukken. \n\n\n\nNa het klankbad is er ruimte je ervaring te delen. \n\n\n\nEr is plek voor 15 deelnemers \n\n\n\nAdres: Land van Een\, Rysloane 5 Surhuizum \n\n\n\nOpgave: https://bewustzijnenheling.nl/klankbadmethelendefrequentiemuziek \n\n\n\nTot dan!  Licht en liefde Jelske
URL:https://landvaneen.nl/activiteiten/klankbad-met-helende-frequentie-muziek/
ATTACH;FMTTYPE=image/png:https://landvaneen.nl/wp-content/uploads/2025/04/thumbnail_Jouw-alineatekst2.png
END:VEVENT
BEGIN:VEVENT
DTSTART;TZID=Europe/Helsinki:20250519T193000
DTEND;TZID=Europe/Helsinki:20250519T204500
DTSTAMP:20260421T024634
CREATED:20250425T080953Z
LAST-MODIFIED:20250429T195157Z
UID:2009-1747683000-1747687500@landvaneen.nl
SUMMARY:Pilates les
DESCRIPTION:met Helen Zwart. \n\n\n\nBen je er bij? \n\n\n\nWat is Pilates en waarom zou je mee willen doen? \n\n\n\nJe zou Pilates kunnen omschrijven als een “inspannende ontspanningsles”. \n\n\n\nEen training waarbij houding\, stabiliteit\, coördinatie\, ademhaling en focus op lichaam en geest het uitgangspunt is. \n\n\n\nJe versterkt en rekt spiergroepen om een sterk maar ook soepel lichaam te krijgen. \n\n\n\nEen sterk en stabiel lichaamscentrum(core) vermindert de kans op blessures. \n\n\n\nDe oefeningen worden rustig en bewust uitgevoerd en opgebouwd. \n\n\n\n“Na 10 lessen voel je verschil\, na 20 lessen zie je het verschil\, na 30 lessen ben je een ander mens¨ Joseph Pilates(1880-1967) \n\n\n\nBen je bekend met Pilates en wat het met je doet? \n\n\n\nOf ben je nieuw(sgierig) en wil je dit wel eens ervaren? \n\n\n\nKorte serie van 4 lessen 60 euro\, dus 15 euro per les van ruim 1 uur. \n\n\n\nData: tm 16 juni. NIET op Pasen\, Bevrijdingsdag en Pinksteren. \n\n\n\nAanmelden via: info@landvaneen.nl \n\n\n\nJe bent van e welkom om het te ervaren bij Land van Een Rysloane 5 te Surhuizum. \n\n\n\nBALANS IN JE LIJF\, BALANS IN JE LEVEN. \n\n\n\nEvenement Navigatie
URL:https://landvaneen.nl/activiteiten/pilates-les-3/
ATTACH;FMTTYPE=image/jpeg:https://landvaneen.nl/wp-content/uploads/2025/04/lucht-1.jpeg
END:VEVENT
BEGIN:VEVENT
DTSTART;TZID=Europe/Helsinki:20250518T100000
DTEND;TZID=Europe/Helsinki:20250518T200000
DTSTAMP:20260421T024634
CREATED:20250404T070143Z
LAST-MODIFIED:20250404T070145Z
UID:1977-1747562400-1747598400@landvaneen.nl
SUMMARY:DE REIS VAN JE LEVEN
DESCRIPTION:Kijk jij wel eens terug op je leven? Je levensweg is een reis met pieken en dalen\, deze pieken en dalen zijn levenslessen in je leven\, leermomenten die\, als je ze oppakt\, ervoor zorgen dat je groeit en een balans in je dagelijkse bestaan ontwikkeld. \n\n\n\nDoormiddel van een gongbad maken we je hoofd leeg zodat je gemakkelijker naar binnen kunt keren\, in het labyrint helder je geleefde leven kunt ervaren om vervolgens in de zweethut daar je lessen uit te leren \n\n\n\nWil jij de verborgen kanten van je leven ontdekken\, laat je dan onderdompelen in een gongbad\, loop je levenspad in het labyrint en ontdek de verborgen kanten van je leven in de zweethut. Voor meer informatie en opgave: https://janlandvaneen.nl/evenement/de-reis-van-je-leven/
URL:https://landvaneen.nl/activiteiten/de-reis-van-je-leven/
ATTACH;FMTTYPE=image/jpeg:https://landvaneen.nl/wp-content/uploads/2024/07/land-van-een-tipitent-zweethut.jpg
END:VEVENT
BEGIN:VEVENT
DTSTART;TZID=Europe/Helsinki:20250504T130000
DTEND;TZID=Europe/Helsinki:20250504T160000
DTSTAMP:20260421T024634
CREATED:20240910T151918Z
LAST-MODIFIED:20250408T174922Z
UID:1267-1746363600-1746374400@landvaneen.nl
SUMMARY:Workshop aura's zien en voelen
DESCRIPTION:De natuur gaf ons alles wat we nodig hebben om aura’s te zien. Maar weten we nog hoe we onze zintuigen moeten gebruiken om aura’s te kunnen lezen …..?Een aura is een veelkleurig\, etherisch energievel dat ons lichaam omhult. Lijkt het je niet prachtig je eigen aura en dat van de mensen om je heen te kunnen waarnemen? \n\n\n\nTijdens deze workshop zal Dominicus uit je leren een aura met eigen ogen en handen waar te nemen. Zodra je daar wat bedreven in raakt\, zul je merken dat je inzicht krijgt in belangrijke aspecten van het leven. Laat je verrassen door je eigen kunnen en de wonderlijke inzichten die je krijgt nu je (weer) puur kunt waarnemen! \n\n\n\nWie is Dominicus Hettinga?Dominicus Hettinga heeft al meer dan 15 jaar ervaring als spiritueel therapeut.Samen met Thea Boven zijn zij Lightwave.Ze helpen al vele jaren verschillende mensen succesvol naar hun essentie.Ze bieden integere oplossingen\, daadkrachtige inzichten en nieuwe levenskansen die passen bij jouw persoonlijkheid. \n\n\n\nOpgave bij Sity: simit@hotmail.com
URL:https://landvaneen.nl/activiteiten/workshop-auras-zien-en-voelen/
ATTACH;FMTTYPE=image/jpeg:https://landvaneen.nl/wp-content/uploads/2024/09/auras-zien-en-voelen.jpg
ORGANIZER;CN="Dominicus Hettinga":MAILTO:simit@hotmail.com
END:VEVENT
END:VCALENDAR