BEGIN:VCALENDAR
VERSION:2.0
PRODID:-//Land van Een - ECPv6.15.20//NONSGML v1.0//EN
CALSCALE:GREGORIAN
METHOD:PUBLISH
X-ORIGINAL-URL:https://landvaneen.nl
X-WR-CALDESC:Evenementen voor Land van Een
REFRESH-INTERVAL;VALUE=DURATION:PT1H
X-Robots-Tag:noindex
X-PUBLISHED-TTL:PT1H
BEGIN:VTIMEZONE
TZID:Europe/Helsinki
BEGIN:DAYLIGHT
TZOFFSETFROM:+0200
TZOFFSETTO:+0300
TZNAME:EEST
DTSTART:20240331T010000
END:DAYLIGHT
BEGIN:STANDARD
TZOFFSETFROM:+0300
TZOFFSETTO:+0200
TZNAME:EET
DTSTART:20241027T010000
END:STANDARD
BEGIN:DAYLIGHT
TZOFFSETFROM:+0200
TZOFFSETTO:+0300
TZNAME:EEST
DTSTART:20250330T010000
END:DAYLIGHT
BEGIN:STANDARD
TZOFFSETFROM:+0300
TZOFFSETTO:+0200
TZNAME:EET
DTSTART:20251026T010000
END:STANDARD
BEGIN:DAYLIGHT
TZOFFSETFROM:+0200
TZOFFSETTO:+0300
TZNAME:EEST
DTSTART:20260329T010000
END:DAYLIGHT
BEGIN:STANDARD
TZOFFSETFROM:+0300
TZOFFSETTO:+0200
TZNAME:EET
DTSTART:20261025T010000
END:STANDARD
END:VTIMEZONE
BEGIN:VEVENT
DTSTART;TZID=Europe/Helsinki:20250928T140000
DTEND;TZID=Europe/Helsinki:20250928T170000
DTSTAMP:20260420T202120
CREATED:20250404T065354Z
LAST-MODIFIED:20250827T114740Z
UID:1974-1759068000-1759078800@landvaneen.nl
SUMMARY:DRUMCIRKEL
DESCRIPTION:Heb jij ook een drum\, djembe of een ander slaginstrument aan de muur hangen of ergens stoffig in een hoekje staan?Kijk je er wel eens naar en denk je dan “ik zou er eigenlijk meer mee willen doen”.Dit overkwam mij\, en ik dacht\, zou het ook leuk zijn om je instrument te pakken en hier op het Land van Een\, met wat mensen muziek te maken in het strohuis.Zien wat er ontstaat\, welke ritmes\, misschien wel zang en/of dans.Gewoon\, met elkaar\, een gezellige middag plezier hebben. \n\n\n\nvoor meer informatie en opgave: https://janlandvaneen.nl/evenement/drumcirkel/
URL:https://landvaneen.nl/activiteiten/drumcirkel-4/
ATTACH;FMTTYPE=image/jpeg:https://landvaneen.nl/wp-content/uploads/2025/03/IMG_7433.jpeg
END:VEVENT
END:VCALENDAR